BEGIN:VCALENDAR
VERSION:2.0
PRODID:-//energieland2050 - ECPv6.15.20//NONSGML v1.0//EN
CALSCALE:GREGORIAN
METHOD:PUBLISH
X-WR-CALNAME:energieland2050
X-ORIGINAL-URL:https://www.energieland2050.de
X-WR-CALDESC:Veranstaltungen für energieland2050
REFRESH-INTERVAL;VALUE=DURATION:PT1H
X-Robots-Tag:noindex
X-PUBLISHED-TTL:PT1H
BEGIN:VTIMEZONE
TZID:Europe/Berlin
BEGIN:DAYLIGHT
TZOFFSETFROM:+0100
TZOFFSETTO:+0200
TZNAME:CEST
DTSTART:20250330T010000
END:DAYLIGHT
BEGIN:STANDARD
TZOFFSETFROM:+0200
TZOFFSETTO:+0100
TZNAME:CET
DTSTART:20251026T010000
END:STANDARD
BEGIN:DAYLIGHT
TZOFFSETFROM:+0100
TZOFFSETTO:+0200
TZNAME:CEST
DTSTART:20260329T010000
END:DAYLIGHT
BEGIN:STANDARD
TZOFFSETFROM:+0200
TZOFFSETTO:+0100
TZNAME:CET
DTSTART:20261025T010000
END:STANDARD
BEGIN:DAYLIGHT
TZOFFSETFROM:+0100
TZOFFSETTO:+0200
TZNAME:CEST
DTSTART:20270328T010000
END:DAYLIGHT
BEGIN:STANDARD
TZOFFSETFROM:+0200
TZOFFSETTO:+0100
TZNAME:CET
DTSTART:20271031T010000
END:STANDARD
END:VTIMEZONE
BEGIN:VEVENT
DTSTART;TZID=Europe/Berlin:20260428T170000
DTEND;TZID=Europe/Berlin:20260428T183000
DTSTAMP:20260424T135243
CREATED:20260320T122533Z
LAST-MODIFIED:20260325T105001Z
UID:11090-1777395600-1777401000@www.energieland2050.de
SUMMARY:28.04.: Solartage - Heizen mit der Sonne: PV und Wärmepumpe clever kombinieren
DESCRIPTION:Photovoltaik und Wärmepumpe gelten als zukunftsfähige Lösungen für eine klimafreundliche Energieversorgung im eigenen Zuhause. Doch wie lassen sich beide Technologien sinnvoll miteinander kombinieren? Energieberater Ulrich Greiling (EffizienzGebäude\, Emsdetten) zeigt in seinem Vortrag\, wie Solarstrom optimal zum Heizen genutzt werden kann\, welche technischen Voraussetzungen nötig sind und worauf Hausbesitzer bei Planung und Betrieb achten sollten. \nDer Vortrag richtet sich an alle\, die ihr Zuhause nachhaltiger und unabhängiger von fossilen Energien machen möchten.
URL:https://www.energieland2050.de/event/28-04-solartage-heizen-mit-der-sonne-pv-und-waermepumpe-clever-kombinieren/
ATTACH;FMTTYPE=image/png:https://www.energieland2050.de/wp-content/uploads/2026/03/Webseite_Beitragsbild_Solartage.png
END:VEVENT
BEGIN:VEVENT
DTSTART;TZID=Europe/Berlin:20260505T180000
DTEND;TZID=Europe/Berlin:20260505T190000
DTSTAMP:20260424T135243
CREATED:20260401T095155Z
LAST-MODIFIED:20260420T151139Z
UID:11231-1778004000-1778007600@www.energieland2050.de
SUMMARY:05.05.: Digitaler Infoabend "Heizkeller der Zukunft"
DESCRIPTION:Viele Hausbesitzerinnen und -besitzer spielen mit dem Gedanken einer neuen Heizung\, aber welche Technik soll es sein? Was kostet der Wechsel und lohnt sich dieser überhaupt? In dem Online-Termin erhalten alle Interessierten einen kompakten Überblick zum Heizungstausch und zum Einsatz von Wärmepumpen. Fragen werden dabei live im Chat beantwortet. \nDer digitale Infoabend findet ergänzend zum Aktionstag „Heizkeller der Zukunft“ am 19. Mai in Stroetmanns Fabrik in Emsdetten statt. \nAlle Termine und weitere Informationen zum Aktionstag und zum digitalen Infoabend sind auf der Website der Aktionstage und in Flyer zu finden. Beide Veranstaltungen sind kostenlos\, eine Anmeldung wird gewünscht unter: Webinar-Registrierung – Zoom \nwww.heizkellerderzukunft.nrw
URL:https://www.energieland2050.de/event/05-05-digitaler-infoabend-heizkeller-der-zukunft/
LOCATION:Digital über Zoom\, Deutschland
END:VEVENT
BEGIN:VEVENT
DTSTART;TZID=Europe/Berlin:20260505T180000
DTEND;TZID=Europe/Berlin:20260505T194500
DTSTAMP:20260424T135243
CREATED:20260323T115902Z
LAST-MODIFIED:20260323T140440Z
UID:11103-1778004000-1778010300@www.energieland2050.de
SUMMARY:05.05.: Vortrag "Vorgartengestaltung – Pflegeleicht und artenreich statt Beton und Schotter"
DESCRIPTION:Die Gartenexpertin Dr. Petra Bloom stellt vor\, wie sich pflegeleichte\, artenreiche und klimaangepasste Vorgärten anlegen lassen\, die als lebendige Visitenkarte des Hauses den Besuch mit blühendem Grün willkommen heißen. Erläutert wird\, dass Schottergärten nur vermeintlich pflegeleicht sind und in Zeiten der Klimaerhitzung zahlreiche Nachteile aufweisen. Der Vortrag findet im Kötterhaus des Kreislehrgartens Steinfurt statt. Im Anschluss erfolgt ein kurzer Rundgang durch den Kreislehrgarten. Die Veranstaltung ist kostenlos. \nWeitere Infos zur Gartengestaltung und zum Entsiegeln finden Sie auf: www.energieland2050.de/entsiegeln \n\n 
URL:https://www.energieland2050.de/event/05-05-vortrag-vorgartengestaltung-pflegeleicht-und-artenreich-statt-beton-und-schotter/
LOCATION:Kreislehrgarten Steinfurt
ATTACH;FMTTYPE=image/png:https://www.energieland2050.de/wp-content/uploads/2025/08/Veranstaltun_Gaertnern-im-Klimawandel.png
END:VEVENT
BEGIN:VEVENT
DTSTART;TZID=Europe/Berlin:20260506T170000
DTEND;TZID=Europe/Berlin:20260506T183000
DTSTAMP:20260424T135243
CREATED:20260320T123202Z
LAST-MODIFIED:20260325T104946Z
UID:11094-1778086800-1778092200@www.energieland2050.de
SUMMARY:06.05.: Solartage - Solarstrom fürs Auto: Wallbox\, Förderung und bidirektionales Laden
DESCRIPTION:Elektroautos lassen sich besonders nachhaltig betreiben\, wenn sie mit selbst erzeugtem Solarstrom geladen werden. Doch welche Wallbox ist die richtige\, welche Fördermöglichkeiten gibt es und was steckt hinter dem Konzept des bidirektionalen Ladens? In diesem Vortrag gibt Karina Wehrmeyer von der Firma Hille Energiesysteme aus Horstmar einen praxisnahen Überblick über Technik\, Voraussetzungen und aktuelle Entwicklungen rund um das Laden von Elektroautos mit Solarstrom. \nDer Vortrag richtet sich an alle\, die ihr Elektroauto zu Hause laden möchten oder sich für die Kombination aus Photovoltaik und Elektromobilität interessieren.
URL:https://www.energieland2050.de/event/06-05-solartage-solarstrom-fuers-auto-wallbox-foerderung-und-bidirektionales-laden/
LOCATION:Digital über Zoom\, Deutschland
ATTACH;FMTTYPE=image/png:https://www.energieland2050.de/wp-content/uploads/2026/03/Webseite_Beitragsbild_Solartage.png
END:VEVENT
BEGIN:VEVENT
DTSTART;TZID=Europe/Berlin:20260508T170000
DTEND;TZID=Europe/Berlin:20260508T190000
DTSTAMP:20260424T135243
CREATED:20260331T163609Z
LAST-MODIFIED:20260422T094957Z
UID:11223-1778259600-1778266800@www.energieland2050.de
SUMMARY:08.05.: Klima-Exkursion - Waldspaziergang Buchenberg
DESCRIPTION:Im Rahmen eines zweistündigen Waldspaziergangs des energieland2050 e. V. und des Kreises Steinfurt in Kooperation mit Wald und Holz NRW können Interessierte erfahren\, wie sich der Buchenberg in Steinfurt durch die Klimakrise verändert hat. Bei der Wanderung werden die beiden Förster Jan-Dirk Hubbert und Alexander Huesmann von Wald und Holz NRW vor allem auf klimabedingte Waldschäden wie das Buchen- und das Eschentriebsterben sowie auf Schäden bei der Fichte eingehen. Darüber hinaus werden sie auch Themen wie Bejagung und Naturschutz im Buchenberg behandeln. \n\nHinweis:\nAm 24. Juli findet ein weiterer Waldspaziergang mit den Förstern Jan-Dirk Hubbert und Alexander Huesmann in Steinfurt stattfinden\, diesmal durch das Bagno. Am 25. September führt der Förster Dr. Georg Berkemeier bei einem Waldspaziergang durch das Tecklenburger Land. Bei Interesse können Sie sich bereits jetzt anmelden per E-Mail an: christina.gaertner@kreis-steinfurt.de
URL:https://www.energieland2050.de/event/08-05-klima-exkursion-waldspaziergang-buchenberg/
LOCATION:Wanderparkplatz Borghorst\, Burgsteinfurter Straße 140\, Steinfurt\, 48565
ATTACH;FMTTYPE=image/png:https://www.energieland2050.de/wp-content/uploads/2024/04/Klima-Exkursion-Waldspaziergang.png
END:VEVENT
BEGIN:VEVENT
DTSTART;TZID=Europe/Berlin:20260513T170000
DTEND;TZID=Europe/Berlin:20260513T183000
DTSTAMP:20260424T135243
CREATED:20260324T090457Z
LAST-MODIFIED:20260325T104932Z
UID:11116-1778691600-1778697000@www.energieland2050.de
SUMMARY:13.05.: Solartage - Balkonkraftwerke: Der einfachste und kostengünstigste Einstieg in die Solarenergie
DESCRIPTION:Balkonkraftwerke bieten eine einfache Möglichkeit\, selbst Solarstrom zu erzeugen – auch ohne eigenes Dach. In diesem Vortrag erklärt Jens Leopold (Servicestelle Solarenergie\, Kreis Steinfurt)\, wie steckerfertige Solaranlagen funktionieren\, welche technischen und rechtlichen Voraussetzungen zu beachten sind und für wen sich ein Balkonkraftwerk besonders lohnt. Zudem werden Kosten\, Wirtschaftlichkeit und aktuelle Regelungen verständlich erklärt. \nDer Vortrag richtet sich an alle\, die unkompliziert in die Nutzung von Solarenergie einsteigen möchten – ob mit Balkon\, Terrasse oder kleinem Dach.
URL:https://www.energieland2050.de/event/13-05-solartage-balkonkraftwerke-der-einfachste-und-kostenguenstigste-einstieg-in-die-solarenergie/
LOCATION:Digital über Zoom\, Deutschland
ATTACH;FMTTYPE=image/png:https://www.energieland2050.de/wp-content/uploads/2026/03/Webseite_Beitragsbild_Solartage.png
END:VEVENT
BEGIN:VEVENT
DTSTART;TZID=Europe/Berlin:20260518T160000
DTEND;TZID=Europe/Berlin:20260518T180000
DTSTAMP:20260424T135243
CREATED:20260416T095304Z
LAST-MODIFIED:20260424T101520Z
UID:11274-1779120000-1779127200@www.energieland2050.de
SUMMARY:18.05.: Klima-Exkursion "Weg der Wildnis" im Bioenergiepark Saerbeck
DESCRIPTION:Der Verein energieland2050 e. V. und die Klimakommune Saerbeck laden am Montag\, 18. Mai\, zu einer besonderen Führung für Erwachsene im Bioenergiepark Saerbeck ein. Unter dem Titel „Weg der Wildnis“ erhalten die Teilnehmenden exklusive Einblicke in das sonst nicht öffentlich zugängliche Nordgelände. Der „Weg in die Wildnis“ ist Baustein im Bildungsangebot des Außerschulischen Lernstandortes Saerbecker Energiewelten. \n\nDie rund zweistündige Veranstaltung führt durch verschiedene Biotope eines ehemaligen Bundeswehrgeländes\, das heute als Naturschutz- und Ausgleichsfläche dient. Im Mittelpunkt stehen die heimische Tier- und Pflanzenwelt sowie die Bedeutung von Nachhaltigkeit und Biodiversität. Zudem werden Zusammenhänge zwischen Energiegewinnung und Naturschutz am Beispiel des Bioenergieparks vermittelt. \n\nBegleitet wird die Führung von zertifizierten Waldpädagogen des BNE-zertifizierten Lernstandortes Saerbecker Energiewelten\, die ihr Fachwissen teilen und Raum für Austausch zu aktuellen Umweltfragen bieten. Neben informativen Inhalten steht auch das bewusste Erleben der Natur im Fokus.\nDer Weg ist nicht barrierefrei. \n\nDie Teilnehmendenzahl ist auf 20 Personen begrenzt. Eine Anmeldung ist erforderlich. \n 
URL:https://www.energieland2050.de/event/18-05-klima-exkursion-wege-der-wildnis-im-bioenergiepark-saerbeck/
LOCATION:Bioenergiepark Saerbeck\, Riesenbecker Str. 54\, Saerbeck\, NRW\, 48369\, Germany
END:VEVENT
BEGIN:VEVENT
DTSTART;TZID=Europe/Berlin:20260519T130000
DTEND;TZID=Europe/Berlin:20260519T190000
DTSTAMP:20260424T135243
CREATED:20260401T090708Z
LAST-MODIFIED:20260420T150412Z
UID:11228-1779195600-1779217200@www.energieland2050.de
SUMMARY:19.05.: Aktionstag für klimafreundliches Heizen
DESCRIPTION:Was macht eine moderne und klimafreundliche Heizung aus? Antworten darauf bietet der Aktionstag „Heizkeller der Zukunft“\, der am 19. Mai 2026 im Kreis Steinfurt Station macht. \nVon 13 bis 19 Uhr können sich Interessierte in Stroetmanns Fabrik in Emsdetten umfassend informieren. Fachvorträge und Infostände geben einen Überblick über passende Heiztechniken\, Fördermöglichkeiten und den Ablauf einer Umstellung. Besonders angesprochen sind Eigentümerinnen und Eigentümer von Ein- und Zweifamilienhäusern. \nDie Veranstaltung wird von der Servicestelle Wärme Kreis Steinfurt und energieland2050 e. V. unterstützt und vom Öko-Zentrum NRW gemeinsam mit Fachleuten aus Energieberatung\, Handwerk und Verbraucherschutz organisiert. \nWer nicht vor Ort teilnehmen kann oder sich bereits vorab informieren möchte\, kann am 5. Mai 2026 ab 18 Uhr einen digitalen Infoabend besuchen. \nAlle Termine und weitere Informationen zum Aktionstag und zum digitalen Infoabend sind auf der Website der Aktionstage und dem Flyer zu finden. Beide Veranstaltungen sind kostenlos\, eine Anmeldung wird gewünscht:\nAnmeldung
URL:https://www.energieland2050.de/event/19-05-aktionstag-fuer-klimafreundliches-heizen/
LOCATION:Stroetmanns Fabrik\, Friedrichstraße 2\, Emsdetten\, 48282\, Germany
ATTACH;FMTTYPE=image/png:https://www.energieland2050.de/wp-content/uploads/2026/04/Veranstaltung_Heizungskeller-der-Zukunft.png
END:VEVENT
BEGIN:VEVENT
DTSTART;TZID=Europe/Berlin:20260520T170000
DTEND;TZID=Europe/Berlin:20260520T183000
DTSTAMP:20260424T135243
CREATED:20260324T112019Z
LAST-MODIFIED:20260325T103711Z
UID:11121-1779296400-1779301800@www.energieland2050.de
SUMMARY:20.05.: Solartage - Strom zum richtigen Zeitpunkt nutzen – Chancen dynamischer Tarife
DESCRIPTION:Dynamische Stromtarife ermöglichen es\, Strom genau dann zu nutzen\, wenn er besonders günstig und klimafreundlich ist. Doch wie funktionieren diese Tarife\, welche technischen Voraussetzungen sind nötig und für wen lohnt sich der Wechsel? In diesem Vortrag erklärt Christina Wallraf von der Verbraucherzentrale NRW verständlich die Grundlagen dynamischer Stromtarife\, zeigt Chancen und mögliche Risiken auf und gibt praktische Tipps für Verbraucherinnen und Verbraucher. \nDer Vortrag richtet sich an alle\, die ihre Stromkosten senken und gleichzeitig die Energiewende aktiv unterstützen möchten.
URL:https://www.energieland2050.de/event/20-05-solartage-strom-zum-richtigen-zeitpunkt-nutzen-chancen-dynamischer-tarife/
LOCATION:Digital über Zoom\, Deutschland
ATTACH;FMTTYPE=image/png:https://www.energieland2050.de/wp-content/uploads/2026/03/Webseite_Beitragsbild_Solartage.png
END:VEVENT
BEGIN:VEVENT
DTSTART;TZID=Europe/Berlin:20260527T170000
DTEND;TZID=Europe/Berlin:20260527T183000
DTSTAMP:20260424T135243
CREATED:20260324T153520Z
LAST-MODIFIED:20260325T103614Z
UID:11139-1779901200-1779906600@www.energieland2050.de
SUMMARY:27.05.: Solartage - Gemeinschaftliche Gebäudeversorgung – Solarstrom für alle im Mehrfamilienhaus
DESCRIPTION:Photovoltaik lohnt sich nicht nur für Einfamilienhäuser. Mit der gemeinschaftlichen Gebäudeversorgung können auch Bewohnerinnen und Bewohner von Mehrfamilienhäusern direkt von Solarstrom vom eigenen Dach profitieren. Doch wie funktioniert dieses Modell\, welche rechtlichen Rahmenbedingungen gelten und welche Vorteile ergeben sich für Eigentümer und Mieter? Taalke Wolf vom Solarenergie-Förderverein Deutschland e.V. (SFV) gibt einen verständlichen Überblick über Konzepte\, Umsetzungsmöglichkeiten und aktuelle Entwicklungen. \n\nDer Vortrag richtet sich an Eigentümergemeinschaften\, Vermieter sowie Mieterinnen und Mieter\, die Solarstrom im Mehrfamilienhaus nutzen möchten.
URL:https://www.energieland2050.de/event/27-05-solartage-gemeinschaftliche-gebaeudeversorgung-solarstrom-fuer-alle-im-mehrfamilienhaus/
LOCATION:Digital über Zoom\, Deutschland
ATTACH;FMTTYPE=image/png:https://www.energieland2050.de/wp-content/uploads/2026/03/Webseite_Beitragsbild_Solartage.png
END:VEVENT
BEGIN:VEVENT
DTSTART;TZID=Europe/Berlin:20260528T170000
DTEND;TZID=Europe/Berlin:20260528T190000
DTSTAMP:20260424T135243
CREATED:20260421T094241Z
LAST-MODIFIED:20260422T165653Z
UID:11304-1779987600-1779994800@www.energieland2050.de
SUMMARY:28.05.: energieland2050-Stammtisch: Firmenbesuch JB Heizung Elektro Sanitär GmbH – Wie ein Fachhandwerksbetrieb energieautark wird!
DESCRIPTION:Ziel der Veranstaltung\n\nWie kann ein Unternehmen nahezu energieautark arbeiten? Am neuen Standort der JB Heizung Elektro Sanitär GmbH erhalten die Teilnehmenden Einblicke in ein CO₂-neutrales Energiekonzept mit Photovoltaikanlage\, Batteriespeicher und Blockheizkraftwerk auf einer Fläche von rund 12.000 m². Der Stammtisch bietet zudem Raum für Austausch\, gute Gespräche und neue Kontakte rund um die Themen Energiewende\, Klimaschutz und Nachhaltigkeit.\nZielgruppen\nUnternehmen\, Handwerk\, Dienstleister\, Kommunen\, Netzwerke sowie Interessierte an den Themen Energiewende\, Klimaschutz und Nachhaltigkeit \nProgramm | Ablauf\n\n17:00 Uhr        Begrüßung\n17:10 Uhr         Vorstellungsrunde aller Teilnehmenden\n17:30 Uhr        Rundgang durch den neuen Unternehmensstandort; Einblicke in das nahezu energieautarke Energiekonzept\n18:15 Uhr         Netzwerken & Austausch beim Imbiss; Knüpfen neuer Kontakte\n19:00 Uhr        Veranstaltungsende\n\nAnmeldungen sind bis zum 26. Mai möglich.
URL:https://www.energieland2050.de/event/28-05-energieland2050-hymat-energie-stammtisch-firmenbesuch-jb-heizung-elektro-sanitaer-gmbh-wie-ein-fachhandwerksbetrieb-energieautark-wird/
LOCATION:JB Heizung Elektro Sanitär GmbH\, Richard-Gerhardi-Straße 1\, Ibbenbüren\, 49479
ATTACH;FMTTYPE=image/png:https://www.energieland2050.de/wp-content/uploads/2026/04/Beitrag_Stammtisch_energieland2050-e.-V.png
END:VEVENT
BEGIN:VEVENT
DTSTART;TZID=Europe/Berlin:20260602T170000
DTEND;TZID=Europe/Berlin:20260602T183000
DTSTAMP:20260424T135243
CREATED:20260324T155358Z
LAST-MODIFIED:20260413T094109Z
UID:11143-1780419600-1780425000@www.energieland2050.de
SUMMARY:02.06.: Solartage - PV-Anlagen als Notstromversorgung bei Stromausfall? Was ist zu beachten?
DESCRIPTION:PV-Anlagen funktionieren auch ohne Batterie. Durch sinkende Speicherpreise\, steigende Strompreise und aktuelle Weichenstellungen der Politik kann es jedoch wirtschaftlich sinnvoll sein\, einen Speicher zu installieren. Wer sich zusätzlich gegen den unwahrscheinlichen Fall eines Stromausfalls absichern möchte\, kann sich zusätzlich eine Notstrom- oder Ersatzstromversorgung einrichten lassen. Der Vortrag vertieft das Thema Speicher\, den Unterschied zwischen Notstrom und Ersatzstrom und gibt einige praktische Hinweise. \nDer Vortrag richtet sich an alle\, die ihre Energieversorgung unabhängiger und krisensicher gestalten möchten.
URL:https://www.energieland2050.de/event/02-06-solartage-pv-anlagen-als-notstromversorgung-bei-stromausfall-was-ist-zu-beachten/
LOCATION:Digital über Zoom\, Deutschland
ATTACH;FMTTYPE=image/png:https://www.energieland2050.de/wp-content/uploads/2026/03/Webseite_Beitragsbild_Solartage.png
END:VEVENT
BEGIN:VEVENT
DTSTART;TZID=Europe/Berlin:20260610T170000
DTEND;TZID=Europe/Berlin:20260610T183000
DTSTAMP:20260424T135243
CREATED:20260324T155459Z
LAST-MODIFIED:20260423T115527Z
UID:11145-1781110800-1781116200@www.energieland2050.de
SUMMARY:10.06.: Solartage - Mehr vom Dach: Solarstrom und Dachbegrünung kombiniert
DESCRIPTION:Photovoltaik und Dachbegrünung lassen sich sinnvoll miteinander verbinden und schaffen so einen doppelten Nutzen für Gebäude und Umwelt. In diesem Vortrag zeigt Michael Feldhues (Sun Pro Tec Photovoltaikanlagen & Sachverständiger für PV-Anlagen)\, welche Vorteile die Kombination aus Solaranlage und Gründach bietet\, welche technischen Voraussetzungen zu beachten sind und wie beide Systeme optimal zusammenwirken können.\n\nDer Vortrag richtet sich an Hausbesitzerinnen und Hausbesitzer sowie alle\, die ihr Dach nachhaltig nutzen und einen Beitrag zum Klima- und Umweltschutz leisten möchten.
URL:https://www.energieland2050.de/event/10-06-solartage-mehr-vom-dach-solarstrom-und-dachbegruenung-kombiniert/
LOCATION:Digital über Zoom\, Deutschland
ATTACH;FMTTYPE=image/png:https://www.energieland2050.de/wp-content/uploads/2026/03/Webseite_Beitragsbild_Solartage.png
END:VEVENT
BEGIN:VEVENT
DTSTART;TZID=Europe/Berlin:20260616T160000
DTEND;TZID=Europe/Berlin:20260616T180000
DTSTAMP:20260424T135243
CREATED:20260324T135530Z
LAST-MODIFIED:20260324T140958Z
UID:11132-1781625600-1781632800@www.energieland2050.de
SUMMARY:16.06.: Solarstrom im Betrieb: Ein Blick hinter die Kulissen der Firma Schemberg
DESCRIPTION:Wie können Unternehmen Photovoltaik sinnvoll im eigenen Betrieb einsetzen? Welche Erfahrungen werden bei Planung\, Umsetzung und Betrieb einer Anlage gesammelt? Bei der Veranstaltung „Solarstrom im Betrieb: Ein Blick hinter die Kulissen der Firma Schemberg“ erhalten Unternehmen die Möglichkeit\, praxisnahe Einblicke in die Nutzung von Solarenergie im Unternehmensalltag zu gewinnen. \n\nDie Firma Schemberg in Mettingen stellt ihre eigene Photovoltaikanlage vor und berichtet offen über ihre Erfahrungen\, Herausforderungen und Learnings aus der Umsetzung. Ziel der Veranstaltung ist es\, insbesondere Unternehmen ohne eigene PV-Anlage einen realistischen Einblick in die Möglichkeiten und Vorteile von Solarstrom im Betrieb zu geben.\n\nNeben einem Erfahrungsbericht aus der Praxis erwartet die Teilnehmenden ein Fachimpuls zum Thema Photovoltaik für Unternehmen sowie eine Führung durch das Unternehmen\, bei der die installierte Anlage und ihre Einbindung in den Betriebsablauf vorgestellt werden.\n\nDie Veranstaltung richtet sich an Unternehmen aus dem Kreis Steinfurt\, die sich über den Einsatz von Photovoltaik im eigenen Betrieb informieren möchten. Die Teilnehmerzahl ist auf 25 Personen begrenzt\, eine Anmeldung ist daher erforderlich.
URL:https://www.energieland2050.de/event/16-06-solarstrom-im-betrieb-ein-blick-hinter-die-kulissen-der-firma-schemberg/
LOCATION:Firma Schemberg\, Bahnhofstraße 10\, Mettingen\, 49497
ATTACH;FMTTYPE=image/png:https://www.energieland2050.de/wp-content/uploads/2023/07/PVGewerbe-min.png
END:VEVENT
BEGIN:VEVENT
DTSTART;TZID=Europe/Berlin:20260701T160000
DTEND;TZID=Europe/Berlin:20260701T180000
DTSTAMP:20260424T135243
CREATED:20260324T133120Z
LAST-MODIFIED:20260324T140119Z
UID:11127-1782921600-1782928800@www.energieland2050.de
SUMMARY:01.07.: Solarstrom im Betrieb: Ein Blick hinter die Kulissen der Firma Carl Nolte
DESCRIPTION:Wie können Unternehmen Photovoltaik sinnvoll im eigenen Betrieb einsetzen? Welche Erfahrungen werden bei Planung\, Umsetzung und Betrieb einer Anlage gesammelt? Bei der Veranstaltung „Solarstrom im Betrieb: Ein Blick hinter die Kulissen der Firma Carl Nolte“ erhalten Unternehmen die Möglichkeit\, praxisnahe Einblicke in die Nutzung von Solarenergie im Unternehmensalltag zu gewinnen. \n\nDie Firma Carl Nolte aus Greven stellt ihre eigene Photovoltaikanlage vor und berichtet offen über ihre Erfahrungen\, Herausforderungen und Learnings aus der Umsetzung. Ziel der Veranstaltung ist es\, insbesondere Unternehmen ohne eigene PV-Anlage einen realistischen Einblick in die Möglichkeiten und Vorteile von Solarstrom im Betrieb zu geben.\n\nNeben einem Erfahrungsbericht aus der Praxis erwartet die Teilnehmenden ein Fachimpuls zum Thema Photovoltaik für Unternehmen sowie eine Führung durch das Unternehmen\, bei der die installierte Anlage und ihre Einbindung in den Betriebsablauf vorgestellt werden.\n\nDie Veranstaltung richtet sich an Unternehmen aus dem Kreis Steinfurt\, die sich über den Einsatz von Photovoltaik im eigenen Betrieb informieren möchten. Die Teilnehmerzahl ist auf 25 Personen begrenzt\, eine Anmeldung ist daher erforderlich.
URL:https://www.energieland2050.de/event/01-07-solarstrom-im-betrieb-ein-blick-hinter-die-kulissen-der-firma-carl-nolte/
LOCATION:Firma Carl Nolte\, Mergenthalerstraße 11-17\, Greven\, 48268
ATTACH;FMTTYPE=image/png:https://www.energieland2050.de/wp-content/uploads/2023/07/PVGewerbe-min.png
END:VEVENT
END:VCALENDAR